BEGIN:VCALENDAR
VERSION:2.0
PRODID:-//Water Collaborative Delivery Association - ECPv6.15.20//NONSGML v1.0//EN
CALSCALE:GREGORIAN
METHOD:PUBLISH
X-ORIGINAL-URL:https://watercollaborativedelivery.org
X-WR-CALDESC:Events for Water Collaborative Delivery Association
REFRESH-INTERVAL;VALUE=DURATION:PT1H
X-Robots-Tag:noindex
X-PUBLISHED-TTL:PT1H
BEGIN:VTIMEZONE
TZID:America/New_York
BEGIN:DAYLIGHT
TZOFFSETFROM:-0500
TZOFFSETTO:-0400
TZNAME:EDT
DTSTART:20250309T070000
END:DAYLIGHT
BEGIN:STANDARD
TZOFFSETFROM:-0400
TZOFFSETTO:-0500
TZNAME:EST
DTSTART:20251102T060000
END:STANDARD
BEGIN:DAYLIGHT
TZOFFSETFROM:-0500
TZOFFSETTO:-0400
TZNAME:EDT
DTSTART:20260308T070000
END:DAYLIGHT
BEGIN:STANDARD
TZOFFSETFROM:-0400
TZOFFSETTO:-0500
TZNAME:EST
DTSTART:20261101T060000
END:STANDARD
BEGIN:DAYLIGHT
TZOFFSETFROM:-0500
TZOFFSETTO:-0400
TZNAME:EDT
DTSTART:20270314T070000
END:DAYLIGHT
BEGIN:STANDARD
TZOFFSETFROM:-0400
TZOFFSETTO:-0500
TZNAME:EST
DTSTART:20271107T060000
END:STANDARD
END:VTIMEZONE
BEGIN:VEVENT
DTSTART;TZID=America/New_York:20260107T083000
DTEND;TZID=America/New_York:20260108T170000
DTSTAMP:20260422T135345
CREATED:20251122T162025Z
LAST-MODIFIED:20251222T193908Z
UID:10000183-1767774600-1767891600@watercollaborativedelivery.org
SUMMARY:Fundamentals and Implementation of Collaborative Delivery for Water & Wastewater Industry Professionals - Waterloo\, Ontario
DESCRIPTION:Join the WCDA and its sponsors for a two-day workshop on Collaborative Delivery for Water/wastewater Infrastructure – An Industry Uplift\, based on the Water and Wastewater Collaborative Delivery Handbook\, Sixth edition. \nWho Should Attend?\nPublic utility leaders\, procurement professionals\, project managers\, contractors\, and O&M professionals who have an interest in learning the nuances of set-up and implementation of collaborative delivery methods to meet your CIP / level of service targets. This course features best practices for organizational readiness\, identifying best opportunities\, selecting\, leveraging existing contract templates\, procuring\, monitoring\, and delivering collaborative delivery contracts for W/WW programmes/projects. No previous experience necessary. \nWhen:\nJanuary 7-8\, 2026\, 8:30 am – 5:00 pm\nDoors open at 7:45 am \nWhere:\nGHD Limited\, Europe Asia Room\n455 Philip Street\nWaterloo\, ON N2L 3X2 \nLogistics:\nDelta Marriott (recommended hotel)\n110 Erb Street\nWaterloo\, ON \nAirport transit information provided upon request. \nCost:\nFREE for all attendees\nSeating is limited. Advance registration required. \nIncludes:\nLunch and refreshments\nCopy of WCDA’s Water and Wastewater Collaborative Delivery Handbook\, 6th edition\nElectronic access to WCDA’s PDB and CMAR contract templates \nAgenda:\n\n    DAY 1 AGENDAApprox. TimeTopic7:45 amDoors Open - Refreshments Offered8:30 am - 9:00 amWho We Are Introduction to the WCDA\, Facilitators\, and Course Attendees9:00 am - 9:45 amFundamentals Chapter 1 Is Collaborative Delivery Right for Your Project? State of the Market 9:45 am - 10:45 amFundamentals Chapter 2 Making Sense of Collaborative Delivery Options How do CMAR\, Progressive DB\, and Fixed-Price DB Differ?10:45 am - 11:15 amSponsored Networking Break & Refreshments11:15 am - 12:00 pmFundamentals Chapter 3 Understanding Risk Allocation The Risk Road Map: Understanding the Market's Risk Appetite12:00 pm - 1:45 pmLunchtime Interactive Workshop: The Power of Organization Engagement – GHD UnPack1:45 pm - 2:45 pmFundamentals Chapter 4 Understanding Collaborative Delivery Contracts Contractual Concepts Unique to CMAR and Progressive DB and to the Canadian Market2:45 pm - 3:15 pmSponsored Networking Break and Refreshments3:15 pm - 4:15 pmFundamentals Chapters 6 and 7 Preparing and Supporting a Project for Collaborative Delivery Success (Organizational Readiness)4:15 pm - 4:30 pmCourse Wrap-Up\, Feedback\, and Preview of Day 2 Agenda4:30 pm - 6:00 pmSponsored Social Hour and Interactive ContentDAY 2 AGENDAApprox. TimeTopic8:00 amDoors Open - Refreshments Offered8:30 am - 8:45 amWho We Are (Re)Introduction to the WCDA\, Facilitators\, and Course Attendees8:45 am - 9:00 amImplementation Timeline & Currculum Overview Feedback from Day 1\, Review of Implementation Timeline9:00 am - 9:45 amImplementation Chapter 8 Establishing Tone and Scope for a Successful Project9:45 am - 10:30 amImplementation Chapter 9 Establishing an Open-Book Cost Model (Estimate Format)10:30 am - 11:00 amSponsored Networking Break and Refreshments11:00 am - 11:45 amImplementation Chapter 9 Evaluating Early Work Package Proposals11:45 am - 12:45 pmSponsored Lunch12:45 pm - 1:45 pmImplementation Chapter 9 Assessing and Verifying Cost and Contingency1:45pm - 2:30 pmImplementation Chapter 10 Agreeing on the Guaranteed Contract Price Proposal2:30 pm - 3:00 pmSponsored Networking Break and Refreshments3:00 pm - 3:45 pmImplementation Chapter 12 Defining\, Implementing Performance Criteria and Contract Terms3:45 pm - 4:00 pmSummary: Being Organizationally Ready Feedback and Q&A\n\nDownload Flyer\nQuestions?\nContact us at Education@WaterCollaborativeDelivery.org \nPRESENTED BY:\n \nSPONSORED BY:\n \n                     
URL:https://watercollaborativedelivery.org/wcda-event/fundamentals-and-implementation-of-collaborative-delivery-for-water-wastewater-industry-professionals-waterloo-ontario/
LOCATION:GHD Limited\, 455 Philip Street\, Waterloo\, Ontario\, N2L 3X2\, Canada
CATEGORIES:Education Sessions
END:VEVENT
END:VCALENDAR