BEGIN:VCALENDAR
VERSION:2.0
PRODID:-//Water Collaborative Delivery Association - ECPv6.15.20//NONSGML v1.0//EN
CALSCALE:GREGORIAN
METHOD:PUBLISH
X-WR-CALNAME:Water Collaborative Delivery Association
X-ORIGINAL-URL:https://watercollaborativedelivery.org
X-WR-CALDESC:Events for Water Collaborative Delivery Association
REFRESH-INTERVAL;VALUE=DURATION:PT1H
X-Robots-Tag:noindex
X-PUBLISHED-TTL:PT1H
BEGIN:VTIMEZONE
TZID:America/New_York
BEGIN:DAYLIGHT
TZOFFSETFROM:-0500
TZOFFSETTO:-0400
TZNAME:EDT
DTSTART:20230312T070000
END:DAYLIGHT
BEGIN:STANDARD
TZOFFSETFROM:-0400
TZOFFSETTO:-0500
TZNAME:EST
DTSTART:20231105T060000
END:STANDARD
BEGIN:DAYLIGHT
TZOFFSETFROM:-0500
TZOFFSETTO:-0400
TZNAME:EDT
DTSTART:20240310T070000
END:DAYLIGHT
BEGIN:STANDARD
TZOFFSETFROM:-0400
TZOFFSETTO:-0500
TZNAME:EST
DTSTART:20241103T060000
END:STANDARD
BEGIN:DAYLIGHT
TZOFFSETFROM:-0500
TZOFFSETTO:-0400
TZNAME:EDT
DTSTART:20250309T070000
END:DAYLIGHT
BEGIN:STANDARD
TZOFFSETFROM:-0400
TZOFFSETTO:-0500
TZNAME:EST
DTSTART:20251102T060000
END:STANDARD
END:VTIMEZONE
BEGIN:VEVENT
DTSTART;TZID=America/New_York:20240918T080000
DTEND;TZID=America/New_York:20240918T170000
DTSTAMP:20260422T045510
CREATED:20240201T163504Z
LAST-MODIFIED:20240924T131543Z
UID:10000144-1726646400-1726678800@watercollaborativedelivery.org
SUMMARY:WCDA Q3 2024 Association Meeting
DESCRIPTION:All WCDA member firm representatives and committee members are invited to the quarterly association meeting.  Please RSVP using the link below. *If there are changes to your attendance status\, please notify Teresa Porath ASAP\, but no later than one week (7 days) prior to the event. Agendas will be sent via email. This quarter’s meeting is hosted by Ferguson Waterworks. \n*Please note that starting with Q3 2024\, anyone who registers for our quarterly meeting events and does not notify us at least seven (7) days prior to the event(s) that they will not be attending or does not find a substitute to come in their place\, will be assessed a no-show fee of $250. \nHotel reservations can be made in our room block here. \nNewport News Marriott at City Center\n740 Town Center Dr.\nNewport News\, VA 23606 \nReservations must be made by August 23\, 2024. We cannot guarantee rooms after this date. \nAirports:\n• Norfolk is the closest major airport (35 minutes no traffic)\, but there is tunnel construction causing significant delays at times and potential beach traffic.\n• Newport News airport is the closest airport but only has American Airlines flights to/from Charlotte three times per day.\n• Richmond is another viable option and is about an hour drive on roads generally without traffic. \nSchedule of Events:\nTuesday\, September 17\, 2024 –10:00 am – 4:00 pm – Education Session on Owner Readiness Training:\nBe part of the development of the new Owner Organizational Readiness Training\, based on the Phase II research findings in the Readiness for Success report. During this session you will get a chance to see the first draft of the new training curriculum and provide initial feedback as we work through and finalize this new and exciting educational option for owners. The goal will be to build on this workshop and other feedback on the training to support beta testing with owners by year end.\nTuesday\, September 17\, 2024 – 5:30 pm – 8:00 pm – WCDA Social:\nFerguson Waterworks HQ\, 6th Floor Terrace\n751 Lakefront Commons\nNewport News\, VA 23606\nWednesday\, September 18\, 2024 – 8:00 am – 5 pm – Q3 Association Meeting\nFerguson Waterworks HQ\n751 Lakefront Commons\nNewport News\, VA 23606\nWednesday\, September 18\, 2024 – 6:00 pm – 8:30 pm – Cocktail Reception:\nTradition Brewing Company\n700 Thimble Shoals Blvd\, #100\nNewport News\, VA 23606\nThursday\, September 19\, 2024 – 8 am – 12 pm –  BOD meeting – Board of Directors and Staff Only\nFerguson Waterworks HQ\n751 Lakefront Commons\nNewport News\, VA 23606\n \nIf you would like to attend the September 18\, 2024\, Q3 Association meeting via Teams\, please email Teresa to receive a link.
URL:https://watercollaborativedelivery.org/wcda-event/wcda-quarterly-association-meeting-3/
LOCATION:Ferguson Waterworks Headquarters\, 751 Lakefront Commons\, Newport News\, VA\, 23606\, United States
CATEGORIES:Quarterly Association Meetings
END:VEVENT
BEGIN:VEVENT
DTSTART;TZID=America/New_York:20240919T080000
DTEND;TZID=America/New_York:20240919T120000
DTSTAMP:20260422T045510
CREATED:20240201T162134Z
LAST-MODIFIED:20240404T204042Z
UID:10000143-1726732800-1726747200@watercollaborativedelivery.org
SUMMARY:WCDA Q3 2024 BOD Meeting
DESCRIPTION:The quarterly BOD meeting is open to the WCDA Board of Directors only. Invitations and agendas will be sent out via email. The September meeting is hosted by Ferguson Waterworks. \n 
URL:https://watercollaborativedelivery.org/wcda-event/wcda-quarterly-bod-meeting-6/
LOCATION:Ferguson Waterworks Headquarters\, 751 Lakefront Commons\, Newport News\, VA\, 23606\, United States
CATEGORIES:Board Meetings
END:VEVENT
END:VCALENDAR