BEGIN:VCALENDAR
VERSION:2.0
PRODID:-//Water Collaborative Delivery Association - ECPv6.15.20//NONSGML v1.0//EN
CALSCALE:GREGORIAN
METHOD:PUBLISH
X-WR-CALNAME:Water Collaborative Delivery Association
X-ORIGINAL-URL:https://watercollaborativedelivery.org
X-WR-CALDESC:Events for Water Collaborative Delivery Association
REFRESH-INTERVAL;VALUE=DURATION:PT1H
X-Robots-Tag:noindex
X-PUBLISHED-TTL:PT1H
BEGIN:VTIMEZONE
TZID:America/Chicago
BEGIN:DAYLIGHT
TZOFFSETFROM:-0600
TZOFFSETTO:-0500
TZNAME:CDT
DTSTART:20230312T080000
END:DAYLIGHT
BEGIN:STANDARD
TZOFFSETFROM:-0500
TZOFFSETTO:-0600
TZNAME:CST
DTSTART:20231105T070000
END:STANDARD
BEGIN:DAYLIGHT
TZOFFSETFROM:-0600
TZOFFSETTO:-0500
TZNAME:CDT
DTSTART:20240310T080000
END:DAYLIGHT
BEGIN:STANDARD
TZOFFSETFROM:-0500
TZOFFSETTO:-0600
TZNAME:CST
DTSTART:20241103T070000
END:STANDARD
BEGIN:DAYLIGHT
TZOFFSETFROM:-0600
TZOFFSETTO:-0500
TZNAME:CDT
DTSTART:20250309T080000
END:DAYLIGHT
BEGIN:STANDARD
TZOFFSETFROM:-0500
TZOFFSETTO:-0600
TZNAME:CST
DTSTART:20251102T070000
END:STANDARD
END:VTIMEZONE
BEGIN:VEVENT
DTSTART;TZID=America/Chicago:20240717T080000
DTEND;TZID=America/Chicago:20240717T160000
DTSTAMP:20260422T031001
CREATED:20240528T215150Z
LAST-MODIFIED:20240711T215515Z
UID:10000152-1721203200-1721232000@watercollaborativedelivery.org
SUMMARY:Fundamentals of Collaborative Delivery – Tulsa\, OK
DESCRIPTION:Join the WCDA and its sponsors for a full-day session about collaborative delivery fundamentals\, following the chapters of the Water and Wastewater Collaborative Delivery Handbook\, 6th edition. \nWho Should Attend?\nLeaders\, engineering\, and O&M staff of public W/WW facilities who have an interest in learning the fundamentals of collaborative delivery. No previous experience necessary. Practitioners are welcome\, too! \nWhen:\nJuly 17\, 2024\, 8:00 a.m. – 4:00 p.m.\nDoors open at 7:30 a.m. for breakfast. Session starts at 8:00 a.m. \nWhere:\nCity of Tulsa\nMohawk Water Treatment Plant\n3600 E. Mohawk Blvd.\nTulsa\, OK 74115 \nCost:\nPublic Owners: FREE\nIndustry Practitioners: $75/person\nSponsors: FREE (limited capacity; see ticket availability below) \nIncludes:\nBreakfast\, lunch\, and refreshments\nCopy of WCDA’s Water and Wastewater Collaborative Delivery Handbook\, 6th edition\nElectronic access to WCDA’s CMAR contract template \nAgenda:\n7:30 am-8:00 am        Breakfast\n8:00 am–8:20 am       Who We Are: Introduction to the WCDA\, Facilitators\, and Course Attendees\n8:20 am–9:00 am       Fundamentals Chapter 1: Is Collaborative Delivery Right for Your Project?\n9:00 am–10:00 am     Fundamentals Chapter 2: Making Sense of Collaborative Delivery Options\n10:00 am –10:15 am  Short Break\n10:15 am –11:30 am  Fundamentals Chapters 3 and 4: Understanding Risk Allocation and Contracts\n11:30 am–12:15 pm   Lunch Break / Q & A\n12:15 pm–12:45 pm  Fundamentals Chapter 5: Emphasizing the Importance of O&M Engagement\n12:45 pm–1:30 pm    Fundamentals Chapter 6: Preparing and Supporting a Project for Procurement\n1:30 pm–1:45 pm      Short Break\n1:45 pm–2:45 pm      Fundamentals Chapter 7: Implementing a Best-Value Procurement Process\n2:45 pm–3:45 pm      Implementing Collaborative Delivery\, Chapter 8: Curriculum Overview and Establishing\na Cost Model (Cost Estimate Template)\n3:45 pm–4:00 pm      Wrap-Up\, Course Evaluations\, and Thank You to our Sponsors\n \nQuestions?\nContact us at Education@WaterCollaborativeDelivery.org \nSeating is limited. Advance registration required. \nDOWNLOAD EVENT FLYER \nWith the Support of:\n                               \n 
URL:https://watercollaborativedelivery.org/wcda-event/fundamentals-of-collaborative-delivery-tulsa-ok/
LOCATION:City of Tulsa Mohawk Water Treatment Plant\, 3600 E. Mohawk Blvd.\, Tulsa\, OK\, 74115\, United States
CATEGORIES:Education Sessions
END:VEVENT
END:VCALENDAR