BEGIN:VCALENDAR
VERSION:2.0
PRODID:-//Water Collaborative Delivery Association - ECPv6.15.20//NONSGML v1.0//EN
CALSCALE:GREGORIAN
METHOD:PUBLISH
X-WR-CALNAME:Water Collaborative Delivery Association
X-ORIGINAL-URL:https://watercollaborativedelivery.org
X-WR-CALDESC:Events for Water Collaborative Delivery Association
REFRESH-INTERVAL;VALUE=DURATION:PT1H
X-Robots-Tag:noindex
X-PUBLISHED-TTL:PT1H
BEGIN:VTIMEZONE
TZID:America/Chicago
BEGIN:DAYLIGHT
TZOFFSETFROM:-0600
TZOFFSETTO:-0500
TZNAME:CDT
DTSTART:20240310T080000
END:DAYLIGHT
BEGIN:STANDARD
TZOFFSETFROM:-0500
TZOFFSETTO:-0600
TZNAME:CST
DTSTART:20241103T070000
END:STANDARD
BEGIN:DAYLIGHT
TZOFFSETFROM:-0600
TZOFFSETTO:-0500
TZNAME:CDT
DTSTART:20250309T080000
END:DAYLIGHT
BEGIN:STANDARD
TZOFFSETFROM:-0500
TZOFFSETTO:-0600
TZNAME:CST
DTSTART:20251102T070000
END:STANDARD
BEGIN:DAYLIGHT
TZOFFSETFROM:-0600
TZOFFSETTO:-0500
TZNAME:CDT
DTSTART:20260308T080000
END:DAYLIGHT
BEGIN:STANDARD
TZOFFSETFROM:-0500
TZOFFSETTO:-0600
TZNAME:CST
DTSTART:20261101T070000
END:STANDARD
END:VTIMEZONE
BEGIN:VEVENT
DTSTART;TZID=America/Chicago:20251210T083000
DTEND;TZID=America/Chicago:20251210T154500
DTSTAMP:20260422T120621
CREATED:20251013T135438Z
LAST-MODIFIED:20251208T203131Z
UID:10000181-1765355400-1765381500@watercollaborativedelivery.org
SUMMARY:Fundamentals of Collaborative Delivery - Oklahoma City\, OK
DESCRIPTION:Join the WCDA and its sponsors for a full-day session on the fundamentals of collaborative delivery projects\, based on the Water and Wastewater Collaborative Delivery Handbook\, 6th edition. \nWho Should Attend?\nLeaders\, engineering\, and O&M staff of public W/WW facilities who have an interest in learning the fundamentals of collaborative delivery\, with a focus on CMAR and progressive design-build. No previous experience necessary. Practitioners are welcome\, too! \nWhen:\nDecember 10\, 2025\, 8:30 am – 3:45 pm\nDoors open at 8:00 am \nWhere:\nAssociation of Oklahoma General Contractors\n636 NE 41st Street\nOklahoma City\, OK 73105 \nCost:\nPublic Owners: Free\nPractitioners: $75\nSeating is limited. Advance registration required. \nIncludes:\n\nLunch and refreshments\nCopy of WCDA’s Water and Wastewater Collaborative Delivery Handbook\, 6th edition\nElectronic access to WCDA’s PDB and CMAR contract templates\n\nAgenda:\n\n    TimeTopic8:00 amDoors Open8:30 am – 9:00 amWho We Are Introduction to the WCDA\, Facilitators\, and Course Attendees9:00 am – 9:45 amFundamentals Chapter 1Is Collaborative Delivery Right for Your Project? 9:45 am – 10:45 amFundamentals Chapter 2Making Sense of Collaborative Delivery Options  10:45 am – 11:00 amShort Break11:00 am – 11:45 amFundamentals Chapters 3Understanding Risk Allocation11:45 am – 12:15 pmLunch Break12:15 pm – 1:15 pmFundamentals Chapter 4Understanding Collaborative Delivery Contracts Two-Phase Implementation (featuring unique contractual aspects of CMAR and progressive design-build)1:15 pm – 1:45 pmFundamentals Chapter 5Emphasizing the Importance of O&M Engagement1:45 pm – 2:00 pmShort Break2:00 pm – 3:00 pmFundamentals Chapters 6 and 7Preparing and Supporting a Project for Procurement and Implementing a Best-Value Procurement Process3:00 pm – 3:30 pmWCDA Readiness for Success ResearchMitigating Commonly Identified Organizational Readiness Gaps3:30 pm – 3:45 pmWrap-Up Implementation Curriculum Overview Q&A and Discussion Thank You to Our Sponsors\n\nDownload Flyer\nQuestions?\nContact us at Education@WaterCollaborativeDelivery.org \nPRESENTED BY:\n \nSPONSORED BY:\n \n                        
URL:https://watercollaborativedelivery.org/wcda-event/fundamentals-of-collaborative-delivery-oklahoma-city-ok/
LOCATION:Association of Oklahoma General Contractors\, 636 NE 41st Street\, Oklahoma City\, OK\, 73105\, United States
CATEGORIES:Education Sessions
END:VEVENT
END:VCALENDAR