BEGIN:VCALENDAR
VERSION:2.0
PRODID:-//Water Collaborative Delivery Association - ECPv6.15.20//NONSGML v1.0//EN
CALSCALE:GREGORIAN
METHOD:PUBLISH
X-WR-CALNAME:Water Collaborative Delivery Association
X-ORIGINAL-URL:https://watercollaborativedelivery.org
X-WR-CALDESC:Events for Water Collaborative Delivery Association
REFRESH-INTERVAL;VALUE=DURATION:PT1H
X-Robots-Tag:noindex
X-PUBLISHED-TTL:PT1H
BEGIN:VTIMEZONE
TZID:America/Los_Angeles
BEGIN:DAYLIGHT
TZOFFSETFROM:-0800
TZOFFSETTO:-0700
TZNAME:PDT
DTSTART:20230312T100000
END:DAYLIGHT
BEGIN:STANDARD
TZOFFSETFROM:-0700
TZOFFSETTO:-0800
TZNAME:PST
DTSTART:20231105T090000
END:STANDARD
BEGIN:DAYLIGHT
TZOFFSETFROM:-0800
TZOFFSETTO:-0700
TZNAME:PDT
DTSTART:20240310T100000
END:DAYLIGHT
BEGIN:STANDARD
TZOFFSETFROM:-0700
TZOFFSETTO:-0800
TZNAME:PST
DTSTART:20241103T090000
END:STANDARD
BEGIN:DAYLIGHT
TZOFFSETFROM:-0800
TZOFFSETTO:-0700
TZNAME:PDT
DTSTART:20250309T100000
END:DAYLIGHT
BEGIN:STANDARD
TZOFFSETFROM:-0700
TZOFFSETTO:-0800
TZNAME:PST
DTSTART:20251102T090000
END:STANDARD
END:VTIMEZONE
BEGIN:VEVENT
DTSTART;TZID=America/Los_Angeles:20240430T080000
DTEND;TZID=America/Los_Angeles:20240430T150000
DTSTAMP:20260419T121322
CREATED:20240315T203228Z
LAST-MODIFIED:20240425T173513Z
UID:10000148-1714464000-1714489200@watercollaborativedelivery.org
SUMMARY:Fundamentals of Collaborative Delivery - Watsonville\, CA
DESCRIPTION:Join the WCDA and its member sponsors for a full-day session on the fundamentals and implementation of collaborative delivery projects\, based on the Water and Wastewater Collaborative Delivery Handbook\, sixth edition\, plus local case studies and panel discussions. \nWho Should Attend?\nLeaders\, engineering\, and O&M staff of public W/WW facilities who have an interest in learning the fundamentals of collaborative delivery. No previous experience necessary. Practitioners are welcome\, too! \nWhen:\nApril 30\, 2024\, 8:00 am – 3:00 pm \nWhere:\nWatsonville Civic Plaza Community Room\n275 Main Street\nWatsonville\, CA 95076 \nCost:\nPublic Owners/Regulators: Free\nIndustry Practitioners: $75\nSponsors: FREE (limited seating; see ticket availability below) \nIncludes:\nLunch and refreshments\nCopy of WCDA’s Water and Wastewater Collaborative Delivery Handbook\, 6th edition\nElectronic access to WCDA CMAR contract template \nAgenda:\n8:00 am–8:30 am         Doors Open\, Registration\, Refreshments\n8:30 am–8:45 am         Who We Are: Introduction to WCDA\, Facilitators\, and Course Attendees\n8:45 am–9:30 am         Fundamentals Chapter 1: Is Collaborative Delivery Right for Your Project? Review CA SB991\n9:30 am–10:15 am       Fundamentals Chapter 2: Making Sense of Collaborative Delivery Options\n10:15 am–10:30 am    Short Break\n10:30 am–11:00 am     Owners’ Preparedness Discussion and Q&A Panel: Lessons Learned\nand Insights: Deciding to Use Collaborative Delivery\n11:00 am–12:00 pm.    Fundamentals Chapters 3 and 4: Understanding Risk Allocation and Contracts\n12:00 pm–12:30 pm    Lunch Break\n12:30 pm–1:00 pm       Owners’ Preparedness Discussion and Q&A Panel: Lessons Learned and Insights: Risk Allocation\n1:00 pm–1:45 pm         Concurrent Presentation and Discussion with Q&A Panel—Fundamentals Chapter 5:\n                                     Emphasizing the Importance of O&M Engagement\n1:45 pm–2:00 pm        Quick Break\n2:00 pm–2:20 pm         WCDA—Curriculum Overview and Additional Training Opportunities\n                                      Fundamentals Chapters 6 and 7: Preparing and Supporting a Best-Value Procurement Process\n                                     Implementing Collaborative Delivery\, Chapters 8–13: Successful Delivery\n2:20 pm–2:50 pm        Owners’ Preparedness Discussion and Q&A Panel: Lessons Learned and Insights:\nTransition from Procurement to Implementation\n2:50 pm – 3:00 pm      Course Wrap-Up and Thank You to Sponsors \nQuestions?\nContact us at Education@WaterCollaborativeDelivery.org \nSeating is limited. Advance registration required. \nDOWNLOAD/PRINT EVENT FLYER \nPresented by:\n               \n      \n                               \nWith the Support of:\n \n 
URL:https://watercollaborativedelivery.org/wcda-event/fundamentals-of-collaborative-delivery-watsonville-ca/
LOCATION:Watsonville Civic Plaza Community Room\, 275 Main Street\, Watsonville\, CA\, 95076\, United States
CATEGORIES:Education Sessions
END:VEVENT
END:VCALENDAR