BEGIN:VCALENDAR
VERSION:2.0
PRODID:-//Water Collaborative Delivery Association - ECPv6.15.20//NONSGML v1.0//EN
CALSCALE:GREGORIAN
METHOD:PUBLISH
X-WR-CALNAME:Water Collaborative Delivery Association
X-ORIGINAL-URL:https://watercollaborativedelivery.org
X-WR-CALDESC:Events for Water Collaborative Delivery Association
REFRESH-INTERVAL;VALUE=DURATION:PT1H
X-Robots-Tag:noindex
X-PUBLISHED-TTL:PT1H
BEGIN:VTIMEZONE
TZID:America/New_York
BEGIN:DAYLIGHT
TZOFFSETFROM:-0500
TZOFFSETTO:-0400
TZNAME:EDT
DTSTART:20230312T070000
END:DAYLIGHT
BEGIN:STANDARD
TZOFFSETFROM:-0400
TZOFFSETTO:-0500
TZNAME:EST
DTSTART:20231105T060000
END:STANDARD
BEGIN:DAYLIGHT
TZOFFSETFROM:-0500
TZOFFSETTO:-0400
TZNAME:EDT
DTSTART:20240310T070000
END:DAYLIGHT
BEGIN:STANDARD
TZOFFSETFROM:-0400
TZOFFSETTO:-0500
TZNAME:EST
DTSTART:20241103T060000
END:STANDARD
BEGIN:DAYLIGHT
TZOFFSETFROM:-0500
TZOFFSETTO:-0400
TZNAME:EDT
DTSTART:20250309T070000
END:DAYLIGHT
BEGIN:STANDARD
TZOFFSETFROM:-0400
TZOFFSETTO:-0500
TZNAME:EST
DTSTART:20251102T060000
END:STANDARD
END:VTIMEZONE
BEGIN:VEVENT
DTSTART;TZID=America/New_York:20240503T090000
DTEND;TZID=America/New_York:20240503T143000
DTSTAMP:20260419T100404
CREATED:20240229T221930Z
LAST-MODIFIED:20240429T184620Z
UID:10000147-1714726800-1714746600@watercollaborativedelivery.org
SUMMARY:Collaborative Delivery Fundamentals and Implementation - NYC
DESCRIPTION:Join the WCDA\, its member sponsors\, and DBIA for an in-person education event focused on the fundamentals and implementation of collaborative delivery projects\, based on the Water and Wastewater Collaborative Delivery Handbook\, sixth edition. \nWho Should Attend?\nLeaders\, engineering\, and O&M staff of public W/WW facilities who have an interest in learning the fundamentals of collaborative delivery. No previous experience necessary. Practitioners are welcome\, too! \nWhen:\nMay 3\, 2024\, 9:00 am – 2:30 pm \nWhere:\nJacobs Engineering\nOne Penn Plaza\, 24th Floor\, Suite 2400\nNew York\, NY 10119 \nCost:\nPublic Owners/Regulators: $45\nIndustry Practitioners: $95\nSponsors: FREE (limited capacity; see ticket availability below) \nIncludes:\nLunch and refreshments\nCopy of WCDA’s Water and Wastewater Collaborative Delivery Handbook\, 6th edition\nElectronic access to WCDA CMAR contract template \nAgenda:\n9:00 am–9:30 am         Doors Open\, Registration\, Refreshments\n9:30 am–9:50 am         Who We Are: Introduction to WCDA\, DBIA\, Facilitators\, and Course Attendees\n9:50 am–10:30 am       Fundamentals Chapter 1: Is Collaborative Delivery Right for Your Project? Review Recent NY\n                                     Legislative Updates\n10:30 am–10:30 am    Short Break\n10:45 am–11:45 am     Fundamentals Chapter 2: Making Sense of Collaborative Delivery Options\n11:45 am–12:15 am     Fundamentals Chapters 3: Understanding Risk/The Risk Roadmap\n12:15 pm–12:45 pm    Lunch Break\n12:45 pm–1:30 pm       Fundamentals Chapter 4: Design-Build Contracts through a Performance-Risk Lens\n1:30 pm–1:45 pm         Fundamentals Chapter 5: Emphasizing the Importance of O&M Engagement\n1:45 pm–2:20 pm        Quick Review—Fundamentals Chapters 6 & 7: Preparing and Supporting\na Project for Procurement and Implementing a Best-Value Procurement Process\n2:20 pm–2:30 pm        Course Wrap-up and Evaluations; Thank You to our Sponsors \nQuestions?\nContact us at Education@WaterCollaborativeDelivery.org \nSeating is limited. Advance registration required. \nDOWNLOAD/PRINT EVENT FLYER \nPresented by:\n                            \n                            \n \nWith the Support of:\n \n 
URL:https://watercollaborativedelivery.org/wcda-event/collaborative-delivery-fundamentals-and-implementation-nyc/
LOCATION:Jacobs Engineering- NYC\, One Penn Plaza\, Suite 2400\, New York\, NY\, 10119\, United States
CATEGORIES:Education Sessions
END:VEVENT
END:VCALENDAR