BEGIN:VCALENDAR
VERSION:2.0
PRODID:-//Water Collaborative Delivery Association - ECPv6.15.20//NONSGML v1.0//EN
CALSCALE:GREGORIAN
METHOD:PUBLISH
X-WR-CALNAME:Water Collaborative Delivery Association
X-ORIGINAL-URL:https://watercollaborativedelivery.org
X-WR-CALDESC:Events for Water Collaborative Delivery Association
REFRESH-INTERVAL;VALUE=DURATION:PT1H
X-Robots-Tag:noindex
X-PUBLISHED-TTL:PT1H
BEGIN:VTIMEZONE
TZID:America/Los_Angeles
BEGIN:DAYLIGHT
TZOFFSETFROM:-0800
TZOFFSETTO:-0700
TZNAME:PDT
DTSTART:20210314T100000
END:DAYLIGHT
BEGIN:STANDARD
TZOFFSETFROM:-0700
TZOFFSETTO:-0800
TZNAME:PST
DTSTART:20211107T090000
END:STANDARD
BEGIN:DAYLIGHT
TZOFFSETFROM:-0800
TZOFFSETTO:-0700
TZNAME:PDT
DTSTART:20220313T100000
END:DAYLIGHT
BEGIN:STANDARD
TZOFFSETFROM:-0700
TZOFFSETTO:-0800
TZNAME:PST
DTSTART:20221106T090000
END:STANDARD
BEGIN:DAYLIGHT
TZOFFSETFROM:-0800
TZOFFSETTO:-0700
TZNAME:PDT
DTSTART:20230312T100000
END:DAYLIGHT
BEGIN:STANDARD
TZOFFSETFROM:-0700
TZOFFSETTO:-0800
TZNAME:PST
DTSTART:20231105T090000
END:STANDARD
END:VTIMEZONE
BEGIN:VEVENT
DTSTART;VALUE=DATE:20220407
DTEND;VALUE=DATE:20220409
DTSTAMP:20260422T154208
CREATED:20220120T203814Z
LAST-MODIFIED:20220120T203814Z
UID:10000075-1649289600-1649462399@watercollaborativedelivery.org
SUMMARY:2022 P3 Water Summit
DESCRIPTION:Join more than 600 public agency and industry representatives for two days of project delivery discussions and networking. The P3 Water Summit is an opportunity to learn\, discuss\, and share evolving concepts and state-of-the-art techniques in delivering water partnerships. This annual program focuses on drinking water\, green infrastructure\, wastewater\, sanitation\, stormwater\, resiliency\, and more. This year’s summit is designed to help public utilities and water managers plan and procure successful P3 initiatives\, understand documentation\, discover industry best practices in selecting and negotiating with prospective partners\, and take steps to ensure project success.
URL:https://watercollaborativedelivery.org/wcda-event/2022-p3-water-summit/
LOCATION:San Diego\, CA
CATEGORIES:Conferences
ORGANIZER;CN="P3C - Access Intelligence":MAILTO:splombon@accessintel.com
END:VEVENT
END:VCALENDAR