BEGIN:VCALENDAR
VERSION:2.0
PRODID:-//Water Collaborative Delivery Association - ECPv6.15.20//NONSGML v1.0//EN
CALSCALE:GREGORIAN
METHOD:PUBLISH
X-WR-CALNAME:Water Collaborative Delivery Association
X-ORIGINAL-URL:https://watercollaborativedelivery.org
X-WR-CALDESC:Events for Water Collaborative Delivery Association
REFRESH-INTERVAL;VALUE=DURATION:PT1H
X-Robots-Tag:noindex
X-PUBLISHED-TTL:PT1H
BEGIN:VTIMEZONE
TZID:America/Los_Angeles
BEGIN:DAYLIGHT
TZOFFSETFROM:-0800
TZOFFSETTO:-0700
TZNAME:PDT
DTSTART:20230312T100000
END:DAYLIGHT
BEGIN:STANDARD
TZOFFSETFROM:-0700
TZOFFSETTO:-0800
TZNAME:PST
DTSTART:20231105T090000
END:STANDARD
BEGIN:DAYLIGHT
TZOFFSETFROM:-0800
TZOFFSETTO:-0700
TZNAME:PDT
DTSTART:20240310T100000
END:DAYLIGHT
BEGIN:STANDARD
TZOFFSETFROM:-0700
TZOFFSETTO:-0800
TZNAME:PST
DTSTART:20241103T090000
END:STANDARD
BEGIN:DAYLIGHT
TZOFFSETFROM:-0800
TZOFFSETTO:-0700
TZNAME:PDT
DTSTART:20250309T100000
END:DAYLIGHT
BEGIN:STANDARD
TZOFFSETFROM:-0700
TZOFFSETTO:-0800
TZNAME:PST
DTSTART:20251102T090000
END:STANDARD
END:VTIMEZONE
BEGIN:VEVENT
DTSTART;TZID=America/Los_Angeles:20240222T080000
DTEND;TZID=America/Los_Angeles:20240222T160000
DTSTAMP:20260422T081918
CREATED:20231204T012717Z
LAST-MODIFIED:20240208T151834Z
UID:10000138-1708588800-1708617600@watercollaborativedelivery.org
SUMMARY:Collaborative Delivery Fundamentals and Implementation
DESCRIPTION:Join the WCDA and its sponsors for a full-day session on the fundamentals and implementation of collaborative delivery projects\, based on the Water and Wastewater Collaborative Delivery Handbook\, sixth edition\, plus local case studies and a panel discussion. \nWho Should Attend?\nLeaders\, engineering\, and O&M staff of public W/WW facilities who have an interest in learning the fundamentals of collaborative delivery. No previous experience necessary. Practitioners are welcome\, too! \nWhen:\nFebruary 22\, 2024\, 8:00 am – 4:00 pm \nWhere:\nHilton Stockton Hotel\n2323 Grand Canal Blvd.\nStockton\, CA 95207 \nCost:\nPublic Owners: FREE\nIndustry Practitioners: $75/person\nSponsors: FREE (limited capacity; see ticket availability below) \nIncludes:\nLunch and refreshments\nCopy of WCDA’s Water and Wastewater Collaborative Delivery Handbook\, 6th edition\nElectronic access to WCDA CMAR contract template \nAgenda:\n8:00 am–8:30 am      Doors Open\, Registration\, Refreshments\n8:30 am–8:50 am      Who We Are: Introduction to the WCDA\, Facilitators\, and Course Attendees\n8:50 am–9:30 am      Fundamentals Chapter 1: Is Collaborative Delivery Right for Your Project? Review CA SB991\n9:30 am–10:15 am    Fundamentals Chapter 2: Making Sense of Collaborative Delivery Options\n10:15 am–10:30 am  Short Break\n10:30 am–11:15 am  Fundamentals Chapters 3 and 4: Understanding Risk Allocation and Contracts\n11:15 am–11:30 am  Quick Take–Fundamentals Chapter 5: Emphasizing the Importance of O&M Engagement\n11:30 am–12:00 pm  Lunch Break\n12:00 pm–12:30 pm  Case Study: Bill Slenter (Hydroscience): Manteca TCP Project: Leveraging Collaborative Delivery to Achieve a Challenging Drinking Water Compliance Deadline\n12:30 pm–1:15 pm    Fundamentals Chapters 6 & 7: Preparing and Supporting a Project for Procurement and Implementing a Best-Value Procurement Process\n1:15 pm–1:30 pm      Short Break\n1:30 pm–2:00 pm      Case Study: Bob Granberg (Granberg & Associates): An Owner’s Perspective on FPDB and PDB\n2:00 pm–2:30 pm      Implementing Collaborative Delivery\, Chapter 8: Curriculum Overview and Establishing Tone and Scope for a Successful Project\n2:30 pm–3:15 pm      Quick Take–Implementing Collaborative Delivery\, Chapters 8 & 9: Establishing a Cost Model (Cost Estimate Template) and Evaluating Early Work Package Proposals\n3:15 pm–3:45 pm      Q&A Panel: Bill Slenter (engineer)\, Bob Granberg (OA)\, Ryan James (contractor)\, Mark Alpert (WCDA)\, and Leofwin Clark (WCDA)\n3:45 pm–4:00 pm      Course Wrap-up and Evaluations; Thank You to our Sponsors \nQuestions?\nContact us at Education@WaterCollaborativeDelivery.org \nSeating is limited. Advance registration required. \nDOWNLOAD EVENT FLYER \nSponsored by:\n      \n                                   
URL:https://watercollaborativedelivery.org/wcda-event/collaborative-delivery-fundamentals-and-implementation/
LOCATION:Hilton Stockton Hotel\, 2323 Grand Canal Blvd.\, Stockton\, CA\, 95207\, United States
CATEGORIES:Education Sessions
END:VEVENT
END:VCALENDAR