BEGIN:VCALENDAR
VERSION:2.0
PRODID:-//Water Collaborative Delivery Association - ECPv6.15.20//NONSGML v1.0//EN
CALSCALE:GREGORIAN
METHOD:PUBLISH
X-ORIGINAL-URL:https://watercollaborativedelivery.org
X-WR-CALDESC:Events for Water Collaborative Delivery Association
REFRESH-INTERVAL;VALUE=DURATION:PT1H
X-Robots-Tag:noindex
X-PUBLISHED-TTL:PT1H
BEGIN:VTIMEZONE
TZID:America/Los_Angeles
BEGIN:DAYLIGHT
TZOFFSETFROM:-0800
TZOFFSETTO:-0700
TZNAME:PDT
DTSTART:20230312T100000
END:DAYLIGHT
BEGIN:STANDARD
TZOFFSETFROM:-0700
TZOFFSETTO:-0800
TZNAME:PST
DTSTART:20231105T090000
END:STANDARD
BEGIN:DAYLIGHT
TZOFFSETFROM:-0800
TZOFFSETTO:-0700
TZNAME:PDT
DTSTART:20240310T100000
END:DAYLIGHT
BEGIN:STANDARD
TZOFFSETFROM:-0700
TZOFFSETTO:-0800
TZNAME:PST
DTSTART:20241103T090000
END:STANDARD
BEGIN:DAYLIGHT
TZOFFSETFROM:-0800
TZOFFSETTO:-0700
TZNAME:PDT
DTSTART:20250309T100000
END:DAYLIGHT
BEGIN:STANDARD
TZOFFSETFROM:-0700
TZOFFSETTO:-0800
TZNAME:PST
DTSTART:20251102T090000
END:STANDARD
END:VTIMEZONE
BEGIN:VTIMEZONE
TZID:America/Chicago
BEGIN:DAYLIGHT
TZOFFSETFROM:-0600
TZOFFSETTO:-0500
TZNAME:CDT
DTSTART:20230312T080000
END:DAYLIGHT
BEGIN:STANDARD
TZOFFSETFROM:-0500
TZOFFSETTO:-0600
TZNAME:CST
DTSTART:20231105T070000
END:STANDARD
BEGIN:DAYLIGHT
TZOFFSETFROM:-0600
TZOFFSETTO:-0500
TZNAME:CDT
DTSTART:20240310T080000
END:DAYLIGHT
BEGIN:STANDARD
TZOFFSETFROM:-0500
TZOFFSETTO:-0600
TZNAME:CST
DTSTART:20241103T070000
END:STANDARD
BEGIN:DAYLIGHT
TZOFFSETFROM:-0600
TZOFFSETTO:-0500
TZNAME:CDT
DTSTART:20250309T080000
END:DAYLIGHT
BEGIN:STANDARD
TZOFFSETFROM:-0500
TZOFFSETTO:-0600
TZNAME:CST
DTSTART:20251102T070000
END:STANDARD
END:VTIMEZONE
BEGIN:VEVENT
DTSTART;TZID=America/Los_Angeles:20240620T080000
DTEND;TZID=America/Los_Angeles:20240620T160000
DTSTAMP:20260421T040213
CREATED:20240516T202219Z
LAST-MODIFIED:20240617T122657Z
UID:10000151-1718870400-1718899200@watercollaborativedelivery.org
SUMMARY:Collaborative Delivery Fundamentals and Implementation — Orange County
DESCRIPTION:Join the WCDA and its sponsors for a full-day session on the fundamentals and implementation of collaborative delivery projects\, based on the Water and Wastewater Collaborative Delivery Handbook\, sixth edition. \nWho Should Attend?\nLeaders\, engineering\, and O&M staff of public W/WW facilities who have an interest in learning the fundamentals of collaborative delivery. No previous experience necessary. Practitioners are welcome\, too! \nWhen:\nThursday\, June 20\, 2024\, 8:00 am – 4:00 pm (Doors open at 7:30 am) \nWhere:\nCourtyard by Marriott — Santa Ana\n8 MacArthur Place\nSanta Ana\, CA 92707 \nCost:\nPublic Owners: Free*\nIndustry Practitioners: $125/person\nSponsors: FREE (limited capacity; see ticket availability below) \nIncludes:\nOn-site parking\nLunch and refreshments*\nCopy of WCDA’s Water and Wastewater Collaborative Delivery Handbook\, 6th edition\nElectronic access to WCDA CMAR contract template \n*Provided courtesy of WCDA\, a nonprofit 501(c)(6) association; participants may voluntarily reimburse WCDA $45 for the cost of lunch and refreshments using that ticket option below. \nAgenda:\n7:30 am–8:00 am      Doors Open\, Registration\, Refreshments\n8:00 am–8:30 am      Who We Are: Introduction to the WCDA\, Facilitators\, and Course Attendees\n8:30 am–9:30 am      Fundamentals Chapter 1: Is Collaborative Delivery Right for Your Project? Review CA SB991\n9:30 am–10:15 am    Fundamentals Chapter 2: Making Sense of Collaborative Delivery Options\n10:15 am–10:30 am  Short Break\n10:30 am–11:30 am   Fundamentals Chapters 3 and 4: Understanding Risk Allocation and Contracts\n11:30 am–12:00 pm   Lunch Break\n12:00 pm–12:30 pm   Project Showcase: Understanding How Collaborative Delivery Results in Better Projects\, Together: Insights on Successful Collaborative Delivery Projects from our Sponsors\n12:30 pm–1:00 pm    Fundamentals Chapter 5: Emphasizing the Importance of O&M Engagement\n1:00 pm–2:00 pm      Fundamentals Chapters 6 & 7: Preparing and Supporting a Project for Procurement and Implementing a Best-Value Procurement Process\n2:00 pm–2:15 pm      Short Break\n2:15 pm–2:30 pm      Implementing Collaborative Delivery\, Chapter 8: Curriculum Overview and Establishing Tone and Scope for a Successful Project\n2:30 pm–3:30 pm      Quick Take–Implementing Collaborative Delivery\, Chapters 8 & 9: Establishing a Cost Model (Cost Estimate Template) and Evaluating Early Work Package Proposals\n3:30 pm–4:00 pm      Course Wrap-up and Evaluations; Thank You to our Sponsors\nOpen Forum: What Steps Should an Owner Take to Promote Collaborative Delivery Success?\n \nQuestions?\nContact us at Education@WaterCollaborativeDelivery.org \nSeating is limited. Advance registration required. \nDOWNLOAD/PRINT EVENT FLYER \nPresented by:\n                     \n  With Additional Support From:\n           
URL:https://watercollaborativedelivery.org/wcda-event/collaborative-delivery-fundamentals-and-implementation-orange-county/
LOCATION:Courtyard by Marriott – Santa Ana\, 8 MacArthur Place\, Santa Ana\, 92702\, United States
CATEGORIES:Education Sessions
END:VEVENT
BEGIN:VEVENT
DTSTART;TZID=America/Chicago:20240320T080000
DTEND;TZID=America/Chicago:20240320T170000
DTSTAMP:20260421T040213
CREATED:20240201T160418Z
LAST-MODIFIED:20240201T160418Z
UID:10000141-1710921600-1710954000@watercollaborativedelivery.org
SUMMARY:WCDA Quarterly Association Meeting
DESCRIPTION:All WCDA member firm representatives and committee members are invited to the quarterly association meeting. Invitations and agendas will be sent via email. Q1 meetings are being hosted by Burns & McDonnell and Garney Construction.
URL:https://watercollaborativedelivery.org/wcda-event/wcda-quarterly-association-meeting-2/
LOCATION:Burns & McDonnell – Houston\, 1700 West Loop S\, Suite 1500\, Houston\, TX\, 77027\, United States
CATEGORIES:Quarterly Association Meetings
END:VEVENT
BEGIN:VEVENT
DTSTART;TZID=America/Chicago:20240321T120000
DTEND;TZID=America/Chicago:20240321T160000
DTSTAMP:20260421T040213
CREATED:20240201T154814Z
LAST-MODIFIED:20240201T154814Z
UID:10000140-1711022400-1711036800@watercollaborativedelivery.org
SUMMARY:WCDA Quarterly BOD Meeting
DESCRIPTION:The quarterly BOD meeting is open to the WCDA Board of Directors only. Invitations and agendas will be sent out via email. The March meeting is hosted by Burns & McDonnell and Garney Construction.
URL:https://watercollaborativedelivery.org/wcda-event/wcda-quarterly-bod-meeting-5/
LOCATION:Northeast Water Purification Plant\, 12630 Water Works Way\, Humble\, TX\, 77396\, United States
CATEGORIES:Board Meetings
END:VEVENT
END:VCALENDAR