BEGIN:VCALENDAR
VERSION:2.0
PRODID:-//Water Collaborative Delivery Association - ECPv6.15.20//NONSGML v1.0//EN
CALSCALE:GREGORIAN
METHOD:PUBLISH
X-ORIGINAL-URL:https://watercollaborativedelivery.org
X-WR-CALDESC:Events for Water Collaborative Delivery Association
REFRESH-INTERVAL;VALUE=DURATION:PT1H
X-Robots-Tag:noindex
X-PUBLISHED-TTL:PT1H
BEGIN:VTIMEZONE
TZID:America/New_York
BEGIN:DAYLIGHT
TZOFFSETFROM:-0500
TZOFFSETTO:-0400
TZNAME:EDT
DTSTART:20240310T070000
END:DAYLIGHT
BEGIN:STANDARD
TZOFFSETFROM:-0400
TZOFFSETTO:-0500
TZNAME:EST
DTSTART:20241103T060000
END:STANDARD
BEGIN:DAYLIGHT
TZOFFSETFROM:-0500
TZOFFSETTO:-0400
TZNAME:EDT
DTSTART:20250309T070000
END:DAYLIGHT
BEGIN:STANDARD
TZOFFSETFROM:-0400
TZOFFSETTO:-0500
TZNAME:EST
DTSTART:20251102T060000
END:STANDARD
BEGIN:DAYLIGHT
TZOFFSETFROM:-0500
TZOFFSETTO:-0400
TZNAME:EDT
DTSTART:20260308T070000
END:DAYLIGHT
BEGIN:STANDARD
TZOFFSETFROM:-0400
TZOFFSETTO:-0500
TZNAME:EST
DTSTART:20261101T060000
END:STANDARD
END:VTIMEZONE
BEGIN:VEVENT
DTSTART;TZID=America/New_York:20251203T080000
DTEND;TZID=America/New_York:20251203T170000
DTSTAMP:20260422T102023
CREATED:20250127T210637Z
LAST-MODIFIED:20251124T215736Z
UID:10000170-1764748800-1764781200@watercollaborativedelivery.org
SUMMARY:WCDA Q4 2025 Association & Annual Meeting
DESCRIPTION:All WCDA member firm representatives and committee members are invited to the Q4 association and annual meeting. Please RSVP using the link below. If there are changes to your attendance status\, please notify Teresa Porath ASAP\, but no later than *seven business days prior to the event. Agendas will be sent via email. This quarter’s events are hosted by CDM Smith\, with supporting sponsorships from AECOM\, Shook Construction\, Core & Main\, Hensel Phelps\, IMCO Construction\, and Woodard & Curran. \nBy registering for these events\, you agree to abide by the WCDA Code of Conduct linked here. \n*Please note that anyone who registers for our quarterly meeting events and does not notify us at least seven (7) days prior to the event(s) that they will not be attending or does not find a substitute to come in their place\, will be assessed a no-show fee of $250. \nA block of rooms has been reserved at: \nHilton Boston Park Plaza\n50 Park Plaza\nBoston\, MA 02116 \nRESERVE YOUR ROOM HERE \nReservations must be made by November 10\, 2025. \nSchedule of Events:\nTuesday\, December 2\, 2025 – 9:30 am – 4:00 pm – Education Session: “Scoping and Procuring an Owner Advisor for Owners”\n**This is for members only. Beta unveil of new material for member review and comment. Space is limited to the first 100 registrants. Please use separate RSVP below.\nContinental breakfast and box lunch will be provided.\nCDM Smith\n75 State St.\, 7th Floor\nBoston\, MA 02109\n \nTuesday\, December 2\, 2025 – 4:30 pm – 6:00 pm – WCDA Quarterly Happy Hour\nVintage Restaurant and Lounge\n75 Broad St.\nBoston\, MA 02110 \nPlease enjoy drinks and appetizers courtesy of our quarterly host and sponsors\, and then feel free to take advantage of all the great restaurants\, sights\, and sounds of Boston! There’s even a Celtics game that night! For a full brochure of things to do\, see\, and eat in Boston\, click here. \nWednesday\, December 3\, 2025 – 8:00 am – 5:00 pm – Q4 Association & Annual Meeting (check-in / breakfast at 7:30 am)\nHilton Boston Park Plaza\n50 Park Plaza\nBoston\, MA 02116 \nWednesday\, December 3\, 2025 – 5:30 pm – 8:30 pm – WCDA Quarterly Reception\nBack Bay Social\n867 Boylston St.\nBoston\, MA 02116 \nThursday\, December 4\, 2025 – 8:00 am – 12:00 pm –  BOD meeting – Board of Directors and Staff Only (breakfast at 7:30 am)\nCDM Smith\n75 State St.\, 7th Floor\nBoston\, MA 02109
URL:https://watercollaborativedelivery.org/wcda-event/wcda-q4-2025-association-annual-meeting/
LOCATION:Hilton Boston Park Plaza\, 50 Park Plaza\, Boston\, 02116\, United States
CATEGORIES:Quarterly Association Meetings
END:VEVENT
END:VCALENDAR